BEGIN:VCALENDAR
VERSION:2.0
PRODID:-//Gräveneck - ECPv6.14.2//NONSGML v1.0//EN
CALSCALE:GREGORIAN
METHOD:PUBLISH
X-WR-CALNAME:Gräveneck
X-ORIGINAL-URL:https://graeveneck.de
X-WR-CALDESC:Veranstaltungen für Gräveneck
REFRESH-INTERVAL;VALUE=DURATION:PT1H
X-Robots-Tag:noindex
X-PUBLISHED-TTL:PT1H
BEGIN:VTIMEZONE
TZID:Europe/Berlin
BEGIN:DAYLIGHT
TZOFFSETFROM:+0100
TZOFFSETTO:+0200
TZNAME:CEST
DTSTART:20180325T010000
END:DAYLIGHT
BEGIN:STANDARD
TZOFFSETFROM:+0200
TZOFFSETTO:+0100
TZNAME:CET
DTSTART:20181028T010000
END:STANDARD
BEGIN:DAYLIGHT
TZOFFSETFROM:+0100
TZOFFSETTO:+0200
TZNAME:CEST
DTSTART:20190331T010000
END:DAYLIGHT
BEGIN:STANDARD
TZOFFSETFROM:+0200
TZOFFSETTO:+0100
TZNAME:CET
DTSTART:20191027T010000
END:STANDARD
BEGIN:DAYLIGHT
TZOFFSETFROM:+0100
TZOFFSETTO:+0200
TZNAME:CEST
DTSTART:20200329T010000
END:DAYLIGHT
BEGIN:STANDARD
TZOFFSETFROM:+0200
TZOFFSETTO:+0100
TZNAME:CET
DTSTART:20201025T010000
END:STANDARD
BEGIN:DAYLIGHT
TZOFFSETFROM:+0100
TZOFFSETTO:+0200
TZNAME:CEST
DTSTART:20210328T010000
END:DAYLIGHT
BEGIN:STANDARD
TZOFFSETFROM:+0200
TZOFFSETTO:+0100
TZNAME:CET
DTSTART:20211031T010000
END:STANDARD
BEGIN:DAYLIGHT
TZOFFSETFROM:+0100
TZOFFSETTO:+0200
TZNAME:CEST
DTSTART:20220327T010000
END:DAYLIGHT
BEGIN:STANDARD
TZOFFSETFROM:+0200
TZOFFSETTO:+0100
TZNAME:CET
DTSTART:20221030T010000
END:STANDARD
END:VTIMEZONE
BEGIN:VEVENT
DTSTART;VALUE=DATE:20220813
DTEND;VALUE=DATE:20220816
DTSTAMP:20260425T181202
CREATED:20220722T083427Z
LAST-MODIFIED:20220722T084437Z
UID:690-1660348800-1660607999@graeveneck.de
SUMMARY:Dorffest
DESCRIPTION:In den letzten beiden Jahren fand aufgrund der Pandemie keine Kirmes und auch keine sonstige kleinere Veranstaltung auf dem Kirmesplatz statt. In diesem Jahr wird vom TUS ein DORFFEST ausgerichtet\, deutlich abgespeckt gegenüber der gewohnten Kirmes. Auch die Dorfjugendlichen sind mit von der Partie und werden zum Gelingen des Dorffestes beitragen! \n  \nEs stehen bereit: \n\nein großer Bier- bzw. Getränkeausschankwagen\nein “Wäller-Riomobil-Zelt” mit integrierter Theke und zwei angebaute Partyzelte\nmehrere Pavilions mit Stehtischen draußen\nfür den Verzehr ein Imbisswagen\nfür die Kinder eine Hüpfburg\n\nHintergrundmusik erfolgt von einer Beschallungsanlage. Am Montag wird es ein paar Stunden Livemusik von “Westwind” geben! \n  \nTermine und Ablauf: \nSamstag\, 13. August \nab 18 Uhr fröhliches Feiern im Zelt und draußen \nSonntag\, 14. August \n11 Uhr Dorffest-Gottesdienst mit musikalischer Begleitung durch “PoCo”\, danach fröhliches Feiern bis spätestens 22 Uhr \nMontag\, 15. August \nab 11 Uhr Frühschoppen bis zum späten Nachmittag mit Live-Musik-Begleitung durch “Westwind” \n  \nDie Aufbauarbeiten beginnen am Donnerstag\, 11. August\, ab 17:30 Uhr. \nWir sind über Jede/n\, die/der mithilft\, dankbar!!! \n  \nWir hoffen auf ein erfolgreiches und vergnügliches Fest und freuen uns auf euren Besuch!!! \n  \nEs grüßen: der TUS Gräveneck und die Dorfjugend
URL:https://graeveneck.de/event/dorffest/
LOCATION:Festplatz Gräveneck\, Westerwaldstr./Bahnhofstr.\, Weinbach\, Hessen\, 35796\, Deutschland
END:VEVENT
BEGIN:VEVENT
DTSTART;TZID=Europe/Berlin:20220422T190000
DTEND;TZID=Europe/Berlin:20220422T220000
DTSTAMP:20260425T181202
CREATED:20220317T170730Z
LAST-MODIFIED:20220317T170730Z
UID:602-1650654000-1650664800@graeveneck.de
SUMMARY:Einweihung der LED-basierenden Flutlichtanlage
DESCRIPTION:
URL:https://graeveneck.de/event/einweihung-der-led-basierenden-flutlichtanlage/
LOCATION:Sportlerheim Gräveneck\, Sportheim 1\, Weinbach-Gräveneck\, Hessen\, 35796\, Deutschland
END:VEVENT
BEGIN:VEVENT
DTSTART;TZID=Europe/Berlin:20211003T113000
DTEND;TZID=Europe/Berlin:20211003T133000
DTSTAMP:20260425T181202
CREATED:20210725T101213Z
LAST-MODIFIED:20210923T085333Z
UID:477-1633260600-1633267800@graeveneck.de
SUMMARY:Oktoberfest 2021
DESCRIPTION:Der TUS-Vorstand hat nun entschieden : \nDas Oktoberfest wird in der “ToGo” – Variante stattfinden.\nEssensbestellungen können nach dem 22.9. aufgrund Urlaubs der Metzgerei nicht mehr angenommen werden !\nDie im Folgenden gemachten Aussagen bzgl. Oktoberfest am Sportheim sind gegenstandslos. Das A-Liga-Punktspiel wird auf dem RP Seelbach ausgetragen. \nOktoberfest des TUS  \nFalls die Corona-Auflagen es zulassen\, werden wir am Sportheim das Oktoberfest ausrichten. Publikumsverkehr wäre nur im Außenbereich. Ein Zelt wird dann bereitstehen\, ein Bierwagen mit „Starnberger Hell“ im Ausschank ist vorsorglich geordert. \nSollte das Oktoberfest in diesem Format nicht ausgerichtet werden können\, wollen wir wie im letzten Jahr ein „Oktoberfest ToGo“ anbieten.\nDie Speisen müssen bei beiden Varianten vorbestellt werden. Angeboten werden : \nHaxe mit Kraut und Brot                                     9\,00 €\nPort. Weißwurst mit Brezel u. Senf                  4\,50 €\nPort. Fleischkäse mit Brezel u. Senf                 5\,00 €\nBrezel                                                                        1\,00 € \nDie Speisenbestellung muss erfolgen\nbis spätestens zum             22.September 2021\nbei wem                                Volker Paul\, Tel. 41535\,\nMail:  paulvolker@freenet.de \nBei der Variante „ToGo“ müssen die Speisen abgeholt werden\nwann                                     Sonntag\, 3.Oktober 2021\, von 11.30 bis 13.30 Uhr wo                                          unter dem Vordach am Eingang des DGH Gräveneck \nWir bitten darum Tragemöglichkeiten (Taschen\, Körbe\, Töpfe etc.) mitzubringen.\nEs besteht keine Möglichkeit die Speisen vor Ort zu verzehren ! \nBei der Variante „am Sportheim“ startet das Oktoberfest am 3.Oktober\, 11 Uhr.  Die Speisen werden vor Ort ausgegeben und können auch vor Ort verzehrt werden.\nWichtig !!! :  Aus hygienischen Gründen bitten wir allerdings darum\,  eigene Teller und Besteck mitzubringen !!! \nHinweise:\nUm 15.30 Uhr startet das A-Liga-Punktspiel der FSG I gegen Dorndorf II.\nDie Corona-Regeln werden eingehalten. \nWir werden rechtzeitig\, praktischerweise über diese website\, aber zusätzlich auch im WT informieren\, welche Variante am 3.Oktober stattfindet. \nHilfreich wäre es\, wenn sich TUS-Mitglieder freiwillig für die Mithilfe (z.B. bei Ausgabe der Speisen mittags bzw. für eine 3 h-Schicht im Bierwagen) bereit erklären würden.\nDas erleichtert uns vom Vorstand erheblich die Organisation. \nWir wünschen für den Feiertag 3.Oktober bereits jetzt „Guten Appetit“ !!!\nDer Vorstand des TUS Gräveneck
URL:https://graeveneck.de/event/oktoberfest-2021/
LOCATION:Dorfgemeinschaftshaus Gräveneck\, Taunusstr. 21\, Weinbach\, Hessen\, 35796\, Deutschland
CATEGORIES:Vereinsveranstaltung
END:VEVENT
BEGIN:VEVENT
DTSTART;VALUE=DATE:20181216
DTEND;VALUE=DATE:20181217
DTSTAMP:20260425T181202
CREATED:20180620T084747Z
LAST-MODIFIED:20180620T102809Z
UID:221-1544918400-1545004799@graeveneck.de
SUMMARY:Weihnachtskonzert
DESCRIPTION:
URL:https://graeveneck.de/event/weihnachtskonzert/
LOCATION:Dorfgemeinschaftshaus Gräveneck\, Taunusstr. 21\, Weinbach\, Hessen\, 35796\, Deutschland
CATEGORIES:Familie & Freizeit
END:VEVENT
BEGIN:VEVENT
DTSTART;TZID=Europe/Berlin:20181211T120000
DTEND;TZID=Europe/Berlin:20181211T140000
DTSTAMP:20260425T181202
CREATED:20180619T101225Z
LAST-MODIFIED:20180620T102816Z
UID:144-1544529600-1544536800@graeveneck.de
SUMMARY:Gräveneck isst gemeinsam
DESCRIPTION:
URL:https://graeveneck.de/event/graeveneck-isst-gemeinsam-5/
LOCATION:Dorfgemeinschaftshaus Gräveneck\, Taunusstr. 21\, Weinbach\, Hessen\, 35796\, Deutschland
CATEGORIES:Familie & Freizeit
END:VEVENT
BEGIN:VEVENT
DTSTART;VALUE=DATE:20181118
DTEND;VALUE=DATE:20181119
DTSTAMP:20260425T181202
CREATED:20180620T085716Z
LAST-MODIFIED:20180620T102955Z
UID:225-1542499200-1542585599@graeveneck.de
SUMMARY:Andacht Volkstrauertag
DESCRIPTION:
URL:https://graeveneck.de/event/andacht-volkstrauertag/
LOCATION:Friedhof Gräveneck\, Lahnstr./Sonnenweg\, Weinbach\, Hessen\, 35796\, Deutschland
CATEGORIES:Kirche
END:VEVENT
BEGIN:VEVENT
DTSTART;TZID=Europe/Berlin:20181113T120000
DTEND;TZID=Europe/Berlin:20181113T140000
DTSTAMP:20260425T181202
CREATED:20180619T101148Z
LAST-MODIFIED:20180620T103009Z
UID:142-1542110400-1542117600@graeveneck.de
SUMMARY:Gräveneck isst gemeinsam
DESCRIPTION:
URL:https://graeveneck.de/event/graeveneck-isst-gemeinsam-4/
LOCATION:Dorfgemeinschaftshaus Gräveneck\, Taunusstr. 21\, Weinbach\, Hessen\, 35796\, Deutschland
CATEGORIES:Familie & Freizeit
END:VEVENT
BEGIN:VEVENT
DTSTART;VALUE=DATE:20181111
DTEND;VALUE=DATE:20181112
DTSTAMP:20260425T181202
CREATED:20180620T084651Z
LAST-MODIFIED:20180620T103019Z
UID:219-1541894400-1541980799@graeveneck.de
SUMMARY:Martinsumzug
DESCRIPTION:
URL:https://graeveneck.de/event/martinsumzug/
LOCATION:Gelände Freiw. Feuerwehr Gräveneck\, Lahnstr. 31\, Weinbach\, Hessen\, 35796\, Deutschland
CATEGORIES:Familie & Freizeit
END:VEVENT
BEGIN:VEVENT
DTSTART;VALUE=DATE:20181012
DTEND;VALUE=DATE:20181013
DTSTAMP:20260425T181202
CREATED:20180620T084454Z
LAST-MODIFIED:20180620T102947Z
UID:217-1539302400-1539388799@graeveneck.de
SUMMARY:Einsatz Mostmobil
DESCRIPTION:
URL:https://graeveneck.de/event/einsatz-mostmobil/
LOCATION:Gelände Freiw. Feuerwehr Gräveneck\, Lahnstr. 31\, Weinbach\, Hessen\, 35796\, Deutschland
CATEGORIES:Feste und Märkte
END:VEVENT
BEGIN:VEVENT
DTSTART;TZID=Europe/Berlin:20181009T120000
DTEND;TZID=Europe/Berlin:20181009T140000
DTSTAMP:20260425T181202
CREATED:20180619T101038Z
LAST-MODIFIED:20180620T102940Z
UID:140-1539086400-1539093600@graeveneck.de
SUMMARY:Gräveneck isst gemeinsam
DESCRIPTION:
URL:https://graeveneck.de/event/graeveneck-isst-gemeinsam-3/
LOCATION:Festplatz Gräveneck\, Westerwaldstr./Bahnhofstr.\, Weinbach\, Hessen\, 35796\, Deutschland
CATEGORIES:Familie & Freizeit
END:VEVENT
BEGIN:VEVENT
DTSTART;VALUE=DATE:20181003
DTEND;VALUE=DATE:20181004
DTSTAMP:20260425T181202
CREATED:20180620T084124Z
LAST-MODIFIED:20180620T102935Z
UID:214-1538524800-1538611199@graeveneck.de
SUMMARY:Oktoberfest
DESCRIPTION:
URL:https://graeveneck.de/event/oktoberfest/
LOCATION:Sportlerheim Gräveneck\, Sportheim 1\, Weinbach-Gräveneck\, Hessen\, 35796\, Deutschland
CATEGORIES:Feste und Märkte
END:VEVENT
BEGIN:VEVENT
DTSTART;VALUE=DATE:20180916
DTEND;VALUE=DATE:20180917
DTSTAMP:20260425T181202
CREATED:20180620T083823Z
LAST-MODIFIED:20180620T102928Z
UID:211-1537056000-1537142399@graeveneck.de
SUMMARY:Apfelfest
DESCRIPTION:
URL:https://graeveneck.de/event/apfelfest/
LOCATION:Dorfgemeinschaftshaus Gräveneck\, Taunusstr. 21\, Weinbach\, Hessen\, 35796\, Deutschland
CATEGORIES:Feste und Märkte
END:VEVENT
BEGIN:VEVENT
DTSTART;TZID=Europe/Berlin:20180911T120000
DTEND;TZID=Europe/Berlin:20180911T140000
DTSTAMP:20260425T181202
CREATED:20180619T100749Z
LAST-MODIFIED:20180620T102920Z
UID:138-1536667200-1536674400@graeveneck.de
SUMMARY:Gräveneck isst gemeinsam
DESCRIPTION:
URL:https://graeveneck.de/event/graeveneck-isst-gemeinsam-2/
LOCATION:Dorfgemeinschaftshaus Gräveneck\, Taunusstr. 21\, Weinbach\, Hessen\, 35796\, Deutschland
CATEGORIES:Familie & Freizeit
END:VEVENT
BEGIN:VEVENT
DTSTART;VALUE=DATE:20180901
DTEND;VALUE=DATE:20180902
DTSTAMP:20260425T181202
CREATED:20180620T083658Z
LAST-MODIFIED:20180620T083835Z
UID:209-1535760000-1535846399@graeveneck.de
SUMMARY:Tagesausflug VdK/NABU
DESCRIPTION:Treffpunkt Bushaltestelle Gräveneck
URL:https://graeveneck.de/event/tagesausflug-vdk-nabu/
LOCATION:Hessen
CATEGORIES:Familie & Freizeit
END:VEVENT
BEGIN:VEVENT
DTSTART;TZID=Europe/Berlin:20180817T200000
DTEND;TZID=Europe/Berlin:20180818T020000
DTSTAMP:20260425T181202
CREATED:20180714T085732Z
LAST-MODIFIED:20180714T103151Z
UID:313-1534536000-1534557600@graeveneck.de
SUMMARY:Mallorca Party
DESCRIPTION:
URL:https://graeveneck.de/event/mallorca-party/
LOCATION:Festplatz Gräveneck\, Westerwaldstr./Bahnhofstr.\, Weinbach\, Hessen\, 35796\, Deutschland
CATEGORIES:Feste und Märkte
ATTACH;FMTTYPE=image/jpeg:https://graeveneck.de/wp-content/uploads/2018/07/mallorca-party.jpg
END:VEVENT
BEGIN:VEVENT
DTSTART;VALUE=DATE:20180817
DTEND;VALUE=DATE:20180821
DTSTAMP:20260425T181202
CREATED:20180619T093527Z
LAST-MODIFIED:20180620T102905Z
UID:128-1534464000-1534809599@graeveneck.de
SUMMARY:Zeltkirmes Gräveneck
DESCRIPTION:
URL:https://graeveneck.de/event/zeltkirmes/
LOCATION:Festplatz Gräveneck\, Westerwaldstr./Bahnhofstr.\, Weinbach\, Hessen\, 35796\, Deutschland
CATEGORIES:Feste und Märkte
END:VEVENT
BEGIN:VEVENT
DTSTART;TZID=Europe/Berlin:20180805T090000
DTEND;TZID=Europe/Berlin:20180805T170000
DTSTAMP:20260425T181202
CREATED:20180629T130159Z
LAST-MODIFIED:20180629T130744Z
UID:292-1533459600-1533488400@graeveneck.de
SUMMARY:15. Autofreier WeiltalSonntag
DESCRIPTION:Am 5. August 2018 sind Sie alle eingeladen das wunderschöne Weiltal zwischen Weilrod – Rod an der Weil und Weilburg zu Fuß oder mit dem Fahrrad zu entdecken. An diesem Tag ist die Weiltalstraße (L3025) für den motorisierten Verkehr gesperrt (die Sperrung beginnt bereits ab der Abzweigung in Richtung Weilrod-Cratzenbach / K754) und gehört ganz allein den aktiven Besuchern des fünfzehnten WeiltalSonntages 2018. \nViele attraktive Aktionen und Verpflegungsstationen links und rechts der rund 30 Kilometer langen Strecke von Weilrod über Weilmünster und Weinbach nach Weilburg warten an diesem Tag auf Radler\, Skater und Wanderer. Wenn Sie in der oberen Leiste auf “Programm 2018” klicken\, erhalten Sie einen detaillierten Überblick über die verschiedenen Angebote und auf der Karte sehen Sie den Routenverlauf inklusive ausgeschilderter Parkmöglichkeiten.
URL:https://graeveneck.de/event/15-autofreier-weiltalsonntag/
LOCATION:Hessen
CATEGORIES:Familie & Freizeit
END:VEVENT
BEGIN:VEVENT
DTSTART;TZID=Europe/Berlin:20180710T120000
DTEND;TZID=Europe/Berlin:20180710T140000
DTSTAMP:20260425T181202
CREATED:20180619T095806Z
LAST-MODIFIED:20180620T102856Z
UID:133-1531224000-1531231200@graeveneck.de
SUMMARY:Gräveneck isst gemeinsam
DESCRIPTION:
URL:https://graeveneck.de/event/graeveneck-isst-gemeinsam/
LOCATION:Dorfgemeinschaftshaus Gräveneck\, Taunusstr. 21\, Weinbach\, Hessen\, 35796\, Deutschland
CATEGORIES:Familie & Freizeit
END:VEVENT
BEGIN:VEVENT
DTSTART;VALUE=DATE:20180630
DTEND;VALUE=DATE:20180701
DTSTAMP:20260425T181202
CREATED:20180619T102148Z
LAST-MODIFIED:20180620T102845Z
UID:150-1530316800-1530403199@graeveneck.de
SUMMARY:Bierfest
DESCRIPTION:
URL:https://graeveneck.de/event/bierfest/
LOCATION:Dorfgemeinschaftshaus Gräveneck\, Taunusstr. 21\, Weinbach\, Hessen\, 35796\, Deutschland
CATEGORIES:Feste und Märkte
END:VEVENT
BEGIN:VEVENT
DTSTART;VALUE=DATE:20180624
DTEND;VALUE=DATE:20180625
DTSTAMP:20260425T181202
CREATED:20180619T103822Z
LAST-MODIFIED:20180620T102833Z
UID:157-1529798400-1529884799@graeveneck.de
SUMMARY:Bürgerentscheid HessenForst
DESCRIPTION:
URL:https://graeveneck.de/event/abstimmung-buergerbegehren-hessenforst/
LOCATION:Dorfgemeinschaftshaus Gräveneck\, Taunusstr. 21\, Weinbach\, Hessen\, 35796\, Deutschland
CATEGORIES:Wahlen & Abstimmungen
ORGANIZER;CN="Gemeindeverwaltung Weinbach":MAILTO:info@gemeinde-weinbach.de
END:VEVENT
BEGIN:VEVENT
DTSTART;VALUE=DATE:20180624
DTEND;VALUE=DATE:20180625
DTSTAMP:20260425T181202
CREATED:20180619T101814Z
LAST-MODIFIED:20180620T102825Z
UID:147-1529798400-1529884799@graeveneck.de
SUMMARY:Konfirmationsjubiläum
DESCRIPTION:
URL:https://graeveneck.de/event/konfirmationsjubilaeum/
LOCATION:Evangelische Kirche Gräveneck\, Lahnstr. 39\, Weinbach\, Hessen\, 35796\, Deutschland
CATEGORIES:Familie & Freizeit,Kirche
END:VEVENT
END:VCALENDAR